Workbook

Sheet 入力シート・女子
B1: 女子選手入力画面
B3: 事務局関係の入力 | I3: 記入例
B4: 都道府県名 | E4: 都道府県を記入。学連は、全日本学生と記載する。（様式）協会→連盟自動変換 | I4: 都道府県名 | J4: 茨城県
B5: 会長名 | E5: 姓と名の間、スペース（1字）を入れる | I5: 会長名 | J5: 茨城 健太郎
B6: 事務連絡者 | E6: 姓と名の間、スペース（１字）を入れる | I6: 事務連絡者 | J6: 高萩 幸次郎
B7: 郵便番号(〒) | E7: 半角数字（例：123-4567） | I7: 郵便番号(〒) | J7: 318-8511
B8: 連絡先住所 | E8: 連絡通知等の送付先 | I8: 連絡先 | J8: 茨城県高萩市本町1-100-１
B9: 電話 | E9: 半角数字（例：03-111-3333） | I9: 電話 | J9: 0293-23-7032
B10: 携帯電話 | E10: 半角数字（例：090ｰ1111-1111） | I10: 携帯電話 | J10: 090-1234-5678
B11: ファクス | E11: 半角数字（例：03-111-2222） | I11: ファクス | J11: 0293-24-3108
B12: メールアドレス | E12: 半角英数字（例：aiueo@yahoo.co.jp) | I12: メールアドレス | J12: sports@city.takahagi.lg.jp
B13: 申込み人数 | D13: 名 | E13: 申込み人数を半角記入 | I13: 申込み人数 | J13: 1
B14: 申込日 | E14: 西暦で記入（例：2024/3/15）→2024年3月15日と自動変換 | I14: 申込日 | J14: 46036
B15: 記載責任者 | E15: 姓と名の間、スペース（１字）入れる | I15: 記載責任者 | J15: 本町 三郎
C17: 申込み選手データ入力欄 | E17: ドロップダウン入力
A18: 女子階級 | B18: 入力方法 | D18: № | E18: ①階級 | F18: ②氏名 | G18: ③ふりがな | H18: ④所属名 | I18: ⑤ふりがな | J18: ⑥学年 | K18: ⑦都道府県 | L18: ⑧登録番号 | M18: ⑨生年月日 | N18: ⑩大会名 | O18: ⑪大会期日 | P18: ⑫大会階級 | Q18: ⑬スナッチ | R18: ⑭ジャーク | S18: ⑮トータル | T18: ⑯現住所 | U18: ⑰備考
B19: 女子入力シートで記入したものが女子様式(1),(2）に反映される。 | D19: 例 | E19: 48 | F19: 高萩 赤水 | G19: たかはぎ あかみす | H19: 高萩第一高校 | I19: たかはぎだいいちこうこう | J19: 3 | K19: 茨城県 | L19: 000123456 | M19: 39670 | N19: 第78回国民スポーツ大会 | O19: 45936 | P19: 55 | Q19: 90 | R19: 115 | S19: =IF(Q19="","",Q19+R19) -> 205 | T19: 茨城県高萩市
A20: 48 | B20: 様式シートに直接入力しない。保護あり | D20: 1 | S20: =IF(Q20="","",Q20+R20)
A21: 53 | B21: １ はじめに、事務局関係を入力する。 | D21: 2 | S21: =IF(Q21="","",Q21+R21)
A22: 58 | B22: ・ スペース右の指示に従って記入する。 | D22: 3 | S22: =IF(Q22="","",Q22+R22)
A23: 63 | B23: ２ 参加選手データ入力 | D23: 4 | S23: =IF(Q23="","",Q23+R23)
A24: 69 | B24: （№1～8は様式(１)、9～18は様式(2)に反映） | D24: 5 | S24: =IF(Q24="","",Q24+R24)
A25: 77 | B25: ① 階級は、ドロップダウン(セルの▼をクリック）入力。 | D25: 6 | S25: =IF(Q25="","",Q25+R25)
A26: 86 | B26: ② 氏名は、姓と名の間にスペース(1字）入れる | D26: 7 | S26: =IF(Q26="","",Q26+R26)
A27: +86 | B27: ③ ふりがなは、姓と名の間にスペース(1字)入れる | D27: 8 | S27: =IF(Q27="","",Q27+R27)
B28: ④ 所属名で、学校関係者等の役職 (教）・(職）も記入する | D28: 9 | S28: =IF(Q28="","",Q28+R28)
A29: 45 | B29: ⑤ 所属のふりがなを記載する | D29: 10 | S29: =IF(Q29="","",Q29+R29)
A30: 49 | B30: ⑥ 生徒・学生は学年を記入(R７年度）、社会人は未記入 | D30: 11 | S30: =IF(Q30="","",Q30+R30)
A31: 55 | B31: ⑦ 都道府県は、大学生は出身高校地を記載する | D31: 12 | S31: =IF(Q31="","",Q31+R31)
A32: 59 | B32: ⑧ 登録番号は、半角で記入する。文字入力なので「0」から記入 | D32: 13 | S32: =IF(Q32="","",Q32+R32)
A33: 64 | B33: ⑨ 生年月日は、西暦で記入。(例：2001/3/21) | D33: 14 | S33: =IF(Q33="","",Q33+R33)
A34: 71 | B34: ⑩ 大会名は、簡略して記入(ｳｴｲﾄﾘﾌﾃｨﾃｨﾝｸﾞ等は省く） | D34: 15 | S34: =IF(Q34="","",Q34+R34)
A35: 76 | B35: ⑪ 大会期日は、出場した日を西暦から記入する(例：2010/10/12） | D35: 16 | S35: =IF(Q35="","",Q35+R35)
A36: 81 | B36: ⑫ 大会で出場した階級をドロップダウン(セルの▼をクリック）入力。
A37: 87 | B37: ⑬⑭ 記録欄は、ｽﾅｯﾁとｼﾞｬｰｸは半角入力
A38: +87 | B38: ⑮ トータルは自動入力される。
B39: ⑯ 現住所は、都道府県・市区町村を記入
B40: ⑰ 備考欄は、連絡事項があれば記載。
B41: ・参加申込書には印刷されない。（様式1・2には反映されない）
B42: ３ 提出方法 (要項の指定箇所に下記の通り送る）
B43: ・ 提出シート 男子様式を印刷し、会長印を押印して郵送する
B44: ・ メールにて、ブック全体をそのまま送信する。(会長印不要）

Sheet 女子様式例
R1: 女 子
C2: 令和７年度 第４６回全日本ジュニアウエイトリフティング選手権大会 参加申込書 (記入例） | R2: （例） 様 式 ２ 号
B4: 都道府県 学連名 | D4: =IF(入力シート・女子!J4="","",入力シート・女子!J4) -> 茨城県 | E4: 事務連絡者 | F4: =IF(入力シート・女子!J6="","",入力シート・女子!J6) -> 高萩 幸次郎 | G4: 連絡先住所 | H4: 〒 | I4: =IF(入力シート・女子!J8="","",入力シート・女子!J8) -> 茨城県高萩市本町1-100-１ | O4: 電話 | Q4: =IF(入力シート・女子!J9="","",入力シート・女子!J9) -> 0293-23-7032
H5: =IF(入力シート・女子!J7="","",入力シート・女子!J7) -> 318-8511 | O5: FAX | Q5: =IF(入力シート・女子!J11="","",入力シート・女子!J11) -> 0293-24-3108
O6: メールアドレス | Q6: =IF(入力シート・女子!J12="","",入力シート・女子!J12) -> sports@city.takahagi.lg.jp
A8: № | B8: 階 級 | D8: ふ り が な | E8: ふりがな | G8: 都道府県名 | H8: 生年月日 | I8: 令和６年度以降の公式競技会での最高記録 | Q8: 現 住 所
D9: 氏 名 | E9: 所 属 名 | G9: 学年 | H9: 登録番号 | I9: 大会名(上段)及び期日(下段) | J9: 階級 | K9: スナッチ | M9: ジャーク | O9: トータル
A10: 1 | B10: =IF(入力シート・女子!E19="","",入力シート・女子!E19) -> 48 | C10: ㎏級 | D10: =IF(入力シート・女子!G19="","",入力シート・女子!G19) -> たかはぎ あかみす | E10: =IF(入力シート・女子!I19="","",入力シート・女子!I19) -> たかはぎだいいちこうこう | G10: =IF(入力シート・女子!K19="","",入力シート・女子!K19) -> 茨城県 | H10: =IF(入力シート・女子!M19="","",入力シート・女子!M19) -> 39670 | I10: =IF(入力シート・女子!N19="","",入力シート・女子!N19) -> 第78回国民スポーツ大会 | J10: =IF(入力シート・女子!P19="","",入力シート・女子!P19) -> 55 | K10: =IF(入力シート・女子!Q19="","",入力シート・女子!Q19) -> 90 | L10: ㎏ | M10: =IF(入力シート・女子!R19="","",入力シート・女子!R19) -> 115 | N10: ㎏ | O10: =IF(入力シート・女子!S19="","",入力シート・女子!S19) -> 205 | P10: ㎏ | Q10: =IF(入力シート・女子!T19="","",入力シート・女子!T19) -> 茨城県高萩市
D11: =IF(入力シート・女子!F19="","",入力シート・女子!F19) -> 高萩 赤水 | E11: =IF(入力シート・女子!H19="","",入力シート・女子!H19) -> 高萩第一高校 | G11: =IF(入力シート・女子!J19="","",入力シート・女子!J19) -> 3 | H11: =IF(入力シート・女子!L19="","",入力シート・女子!L19) -> 000123456 | I11: =IF(入力シート・女子!O19="","",入力シート・女子!O19) -> 45936
A12: 2 | B12: =IF(入力シート・女子!E21="","",入力シート・女子!E21) | C12: ㎏級 | D12: =IF(入力シート・女子!G21="","",入力シート・女子!G21) | E12: =IF(入力シート・女子!I21="","",入力シート・女子!I21) | G12: =IF(入力シート・女子!K21="","",入力シート・女子!K21) | H12: =IF(入力シート・女子!M21="","",入力シート・女子!M21) | I12: =IF(入力シート・女子!N21="","",入力シート・女子!N21) | J12: =IF(入力シート・女子!P21="","",入力シート・女子!P21) | K12: =IF(入力シート・女子!Q21="","",入力シート・女子!Q21) | L12: ㎏ | M12: =IF(入力シート・女子!R21="","",入力シート・女子!R21) | N12: ㎏ | O12: =IF(入力シート・女子!S21="","",入力シート・女子!S21) | P12: ㎏ | Q12: =IF(入力シート・女子!T21="","",入力シート・女子!T21)
D13: =IF(入力シート・女子!F21="","",入力シート・女子!F21) | E13: =IF(入力シート・女子!H21="","",入力シート・女子!H21) | G13: =IF(入力シート・女子!J21="","",入力シート・女子!J21) | H13: =IF(入力シート・女子!L21="","",入力シート・女子!L21) | I13: =IF(入力シート・女子!O21="","",入力シート・女子!O21)
A14: 3 | C14: ㎏級 | L14: ㎏ | N14: ㎏ | P14: ㎏
H15: =IF(入力シート・女子!L23="","",入力シート・女子!L23)
A16: 4 | C16: ㎏級 | L16: ㎏ | N16: ㎏ | P16: ㎏
H17: =IF(入力シート・女子!L25="","",入力シート・女子!L25)
A18: 5 | C18: ㎏級 | L18: ㎏ | N18: ㎏ | P18: ㎏
H19: =IF(入力シート・女子!L27="","",入力シート・女子!L27)
A20: 6 | C20: ㎏級 | L20: ㎏ | N20: ㎏ | P20: ㎏
H21: =IF(入力シート・女子!L29="","",入力シート・女子!L29)
A22: 7 | C22: ㎏級 | L22: ㎏ | N22: ㎏ | P22: ㎏
H23: =IF(入力シート・女子!L31="","",入力シート・女子!L31)
A24: 8 | C24: ㎏級 | L24: ㎏ | N24: ㎏ | P24: ㎏
H25: =IF(入力シート・女子!L33="","",入力シート・女子!L33)
B27: 上記の者は、標記大会実施要項の規定に適確で健康上にも支障がないので申し込みます。 | N27: 記 載 責 任 者 | R27: =IF(入力シート・女子!J15="","",入力シート・女子!J15) -> 本町 三郎 | S27: =IF(#REF!="","",#REF!) -> #REF!
N28: 申 込 み 人 数 | R28: 1 | S28: 名
D29: 申込日： | E29: =IF(入力シート・女子!J14="","",入力シート・女子!J14) -> 46036
N30: =IF(入力シート・女子!J4="","",入力シート・女子!J4) -> 茨城県 | Q30: ウエイトリフティング | S30: =IF(N30="全日本学生","連盟","協会") -> 協会
C31: 公益社団法人日本ウエイトリフティング協会会長 砂岡 良治 様 | N31: 会 長 | P31: =IF(入力シート・女子!J5="","",入力シート・女子!J5) -> 茨城 健太郎 | S31: 印
N32: 注意：Eメールで送信する際は押印不要です。

Sheet 提出シート_女子様式２直接記入不可
R1: 女 子
C2: 令和７年度 第４６回全日本ジュニアウエイトリフティング選手権大会 参加申込書 | R2: 様 式 ２ 号
B4: 都道府県 学連名 | D4: =IF(入力シート・女子!C4="","",入力シート・女子!C4) | E4: 事務連絡者 | F4: =IF(入力シート・女子!C6="","",入力シート・女子!C6) | G4: 連絡先住所 | H4: 〒 | I4: =IF(入力シート・女子!C8="","",入力シート・女子!C8) | O4: 電話 | Q4: =IF(入力シート・女子!C9="","",入力シート・女子!C9)
H5: =IF(入力シート・女子!C7="","",入力シート・女子!C7) | O5: FAX | Q5: =IF(入力シート・女子!C11="","",入力シート・女子!C11)
O6: メールアドレス | Q6: =IF(入力シート・女子!C12="","",入力シート・女子!C12)
A8: № | B8: 階 級 | D8: ふ り が な | E8: ふりがな | G8: 都道府県名 | H8: 生年月日 | I8: 令和６年度以降の公式競技会での最高記録 | Q8: 現 住 所
D9: 氏 名 | E9: 所 属 名 | G9: 学年 | H9: 登録番号 | I9: 大会名(上段)及び期日(下段) | J9: 階級 | K9: スナッチ | M9: ジャーク | O9: トータル
A10: 1 | B10: =IF(入力シート・女子!E20="","",入力シート・女子!E20) | C10: ㎏級 | D10: =IF(入力シート・女子!G20="","",入力シート・女子!G20) | E10: =IF(入力シート・女子!I20="","",入力シート・女子!I20) | G10: =IF(入力シート・女子!K20="","",入力シート・女子!K20) | H10: =IF(入力シート・女子!M20="","",入力シート・女子!M20) | I10: =IF(入力シート・女子!N20="","",入力シート・女子!N20) | J10: =IF(入力シート・女子!P20="","",入力シート・女子!P20) | K10: =IF(入力シート・女子!Q20="","",入力シート・女子!Q20) | L10: ㎏ | M10: =IF(入力シート・女子!R20="","",入力シート・女子!R20) | N10: ㎏ | O10: =IF(入力シート・女子!S20="","",入力シート・女子!S20) | P10: ㎏ | Q10: =IF(入力シート・女子!T20="","",入力シート・女子!T20)
D11: =IF(入力シート・女子!F20="","",入力シート・女子!F20) | E11: =IF(入力シート・女子!H20="","",入力シート・女子!H20) | G11: =IF(入力シート・女子!J20="","",入力シート・女子!J20) | H11: =IF(入力シート・女子!L20="","",入力シート・女子!L20) | I11: =IF(入力シート・女子!O20="","",入力シート・女子!O20)
A12: 2 | B12: =IF(入力シート・女子!E21="","",入力シート・女子!E21) | C12: ㎏級 | D12: =IF(入力シート・女子!G21="","",入力シート・女子!G21) | E12: =IF(入力シート・女子!I21="","",入力シート・女子!I21) | G12: =IF(入力シート・女子!K21="","",入力シート・女子!K21) | H12: =IF(入力シート・女子!M21="","",入力シート・女子!M21) | I12: =IF(入力シート・女子!N21="","",入力シート・女子!N21) | J12: =IF(入力シート・女子!P21="","",入力シート・女子!P21) | K12: =IF(入力シート・女子!Q21="","",入力シート・女子!Q21) | L12: ㎏ | M12: =IF(入力シート・女子!R21="","",入力シート・女子!R21) | N12: ㎏ | O12: =IF(入力シート・女子!S21="","",入力シート・女子!S21) | P12: ㎏ | Q12: =IF(入力シート・女子!T21="","",入力シート・女子!T21)
D13: =IF(入力シート・女子!F21="","",入力シート・女子!F21) | E13: =IF(入力シート・女子!H21="","",入力シート・女子!H21) | G13: =IF(入力シート・女子!J21="","",入力シート・女子!J21) | H13: =IF(入力シート・女子!L21="","",入力シート・女子!L21) | I13: =IF(入力シート・女子!O21="","",入力シート・女子!O21)
A14: 3 | B14: =IF(入力シート・女子!E22="","",入力シート・女子!E22) | C14: ㎏級 | D14: =IF(入力シート・女子!G22="","",入力シート・女子!G22) | E14: =IF(入力シート・女子!I22="","",入力シート・女子!I22) | G14: =IF(入力シート・女子!K22="","",入力シート・女子!K22) | H14: =IF(入力シート・女子!M22="","",入力シート・女子!M22) | I14: =IF(入力シート・女子!N22="","",入力シート・女子!N22) | J14: =IF(入力シート・女子!P22="","",入力シート・女子!P22) | K14: =IF(入力シート・女子!Q22="","",入力シート・女子!Q22) | L14: ㎏ | M14: =IF(入力シート・女子!R22="","",入力シート・女子!R22) | N14: ㎏ | O14: =IF(入力シート・女子!S22="","",入力シート・女子!S22) | P14: ㎏ | Q14: =IF(入力シート・女子!T22="","",入力シート・女子!T22)
D15: =IF(入力シート・女子!F22="","",入力シート・女子!F22) | E15: =IF(入力シート・女子!H22="","",入力シート・女子!H22) | G15: =IF(入力シート・女子!J22="","",入力シート・女子!J22) | H15: =IF(入力シート・女子!L22="","",入力シート・女子!L22) | I15: =IF(入力シート・女子!O22="","",入力シート・女子!O22)
A16: 4 | B16: =IF(入力シート・女子!E23="","",入力シート・女子!E23) | C16: ㎏級 | D16: =IF(入力シート・女子!G23="","",入力シート・女子!G23) | E16: =IF(入力シート・女子!I23="","",入力シート・女子!I23) | G16: =IF(入力シート・女子!K23="","",入力シート・女子!K23) | H16: =IF(入力シート・女子!M23="","",入力シート・女子!M23) | I16: =IF(入力シート・女子!N23="","",入力シート・女子!N23) | J16: =IF(入力シート・女子!P23="","",入力シート・女子!P23) | K16: =IF(入力シート・女子!Q23="","",入力シート・女子!Q23) | L16: ㎏ | M16: =IF(入力シート・女子!R23="","",入力シート・女子!R23) | N16: ㎏ | O16: =IF(入力シート・女子!S23="","",入力シート・女子!S23) | P16: ㎏ | Q16: =IF(入力シート・女子!T23="","",入力シート・女子!T23)
D17: =IF(入力シート・女子!F23="","",入力シート・女子!F23) | E17: =IF(入力シート・女子!H23="","",入力シート・女子!H23) | G17: =IF(入力シート・女子!J23="","",入力シート・女子!J23) | H17: =IF(入力シート・女子!L23="","",入力シート・女子!L23) | I17: =IF(入力シート・女子!O23="","",入力シート・女子!O23)
A18: 5 | B18: =IF(入力シート・女子!E24="","",入力シート・女子!E24) | C18: ㎏級 | D18: =IF(入力シート・女子!G24="","",入力シート・女子!G24) | E18: =IF(入力シート・女子!I24="","",入力シート・女子!I24) | G18: =IF(入力シート・女子!K24="","",入力シート・女子!K24) | H18: =IF(入力シート・女子!M24="","",入力シート・女子!M24) | I18: =IF(入力シート・女子!N24="","",入力シート・女子!N24) | J18: =IF(入力シート・女子!P24="","",入力シート・女子!P24) | K18: =IF(入力シート・女子!Q24="","",入力シート・女子!Q24) | L18: ㎏ | M18: =IF(入力シート・女子!R24="","",入力シート・女子!R24) | N18: ㎏ | O18: =IF(入力シート・女子!S24="","",入力シート・女子!S24) | P18: ㎏ | Q18: =IF(入力シート・女子!T24="","",入力シート・女子!T24)
D19: =IF(入力シート・女子!F24="","",入力シート・女子!F24) | E19: =IF(入力シート・女子!H24="","",入力シート・女子!H24) | G19: =IF(入力シート・女子!J24="","",入力シート・女子!J24) | H19: =IF(入力シート・女子!L24="","",入力シート・女子!L24) | I19: =IF(入力シート・女子!O24="","",入力シート・女子!O24)
A20: 6 | B20: =IF(入力シート・女子!E25="","",入力シート・女子!E25) | C20: ㎏級 | D20: =IF(入力シート・女子!G25="","",入力シート・女子!G25) | E20: =IF(入力シート・女子!I25="","",入力シート・女子!I25) | G20: =IF(入力シート・女子!K25="","",入力シート・女子!K25) | H20: =IF(入力シート・女子!M25="","",入力シート・女子!M25) | I20: =IF(入力シート・女子!N25="","",入力シート・女子!N25) | J20: =IF(入力シート・女子!P25="","",入力シート・女子!P25) | K20: =IF(入力シート・女子!Q25="","",入力シート・女子!Q25) | L20: ㎏ | M20: =IF(入力シート・女子!R25="","",入力シート・女子!R25) | N20: ㎏ | O20: =IF(入力シート・女子!S25="","",入力シート・女子!S25) | P20: ㎏ | Q20: =IF(入力シート・女子!T25="","",入力シート・女子!T25)
D21: =IF(入力シート・女子!F25="","",入力シート・女子!F25) | E21: =IF(入力シート・女子!H25="","",入力シート・女子!H25) | G21: =IF(入力シート・女子!J25="","",入力シート・女子!J25) | H21: =IF(入力シート・女子!L25="","",入力シート・女子!L25) | I21: =IF(入力シート・女子!O25="","",入力シート・女子!O25)
A22: 7 | B22: =IF(入力シート・女子!E26="","",入力シート・女子!E26) | C22: ㎏級 | D22: =IF(入力シート・女子!G26="","",入力シート・女子!G26) | E22: =IF(入力シート・女子!I26="","",入力シート・女子!I26) | G22: =IF(入力シート・女子!K26="","",入力シート・女子!K26) | H22: =IF(入力シート・女子!M26="","",入力シート・女子!M26) | I22: =IF(入力シート・女子!N26="","",入力シート・女子!N26) | J22: =IF(入力シート・女子!P26="","",入力シート・女子!P26) | K22: =IF(入力シート・女子!Q26="","",入力シート・女子!Q26) | L22: ㎏ | M22: =IF(入力シート・女子!R26="","",入力シート・女子!R26) | N22: ㎏ | O22: =IF(入力シート・女子!S26="","",入力シート・女子!S26) | P22: ㎏ | Q22: =IF(入力シート・女子!T26="","",入力シート・女子!T26)
D23: =IF(入力シート・女子!F26="","",入力シート・女子!F26) | E23: =IF(入力シート・女子!H26="","",入力シート・女子!H26) | G23: =IF(入力シート・女子!J26="","",入力シート・女子!J26) | H23: =IF(入力シート・女子!L26="","",入力シート・女子!L26) | I23: =IF(入力シート・女子!O26="","",入力シート・女子!O26)
A24: 8 | B24: =IF(入力シート・女子!E27="","",入力シート・女子!E27) | C24: ㎏級 | D24: =IF(入力シート・女子!G27="","",入力シート・女子!G27) | E24: =IF(入力シート・女子!I27="","",入力シート・女子!I27) | G24: =IF(入力シート・女子!K27="","",入力シート・女子!K27) | H24: =IF(入力シート・女子!M27="","",入力シート・女子!M27) | I24: =IF(入力シート・女子!N27="","",入力シート・女子!N27) | J24: =IF(入力シート・女子!P27="","",入力シート・女子!P27) | K24: =IF(入力シート・女子!Q27="","",入力シート・女子!Q27) | L24: ㎏ | M24: =IF(入力シート・女子!R27="","",入力シート・女子!R27) | N24: ㎏ | O24: =IF(入力シート・女子!S27="","",入力シート・女子!S27) | P24: ㎏ | Q24: =IF(入力シート・女子!T27="","",入力シート・女子!T27)
D25: =IF(入力シート・女子!F27="","",入力シート・女子!F27) | E25: =IF(入力シート・女子!H27="","",入力シート・女子!H27) | G25: =IF(入力シート・女子!J27="","",入力シート・女子!J27) | H25: =IF(入力シート・女子!L27="","",入力シート・女子!L27) | I25: =IF(入力シート・女子!O27="","",入力シート・女子!O27)
B27: 上記の者は、標記大会実施要項の規定に適確で健康上にも支障がないので申し込みます。 | N27: 記 載 責 任 者 | R27: =IF(入力シート・女子!C15="","",入力シート・女子!C15) | S27: =IF(#REF!="","",#REF!) -> #REF!
N28: 申 込 み 人 数 | R28: =IF(入力シート・女子!C13="","",入力シート・女子!C13) | S28: 名
D29: 申込日： | E29: =IF(入力シート・女子!C14="","",入力シート・女子!C14)
N30: =IF(入力シート・女子!C4="","",入力シート・女子!C4) | Q30: ウエイトリフティング | S30: =IF(N30="全日本学生","連盟","協会") -> 協会
C31: 公益社団法人日本ウエイトリフティング協会会長 砂岡 良治 様 | N31: 会 長 | P31: =IF(入力シート・女子!C5="","",入力シート・女子!C5) | S31: 印
N32: 注意：Eメールで送信する際は押印不要です。

Sheet 提出シート_女子様式2-2直接記入不可
R1: 女 子
C2: 令和７年度 第４６回全日本ジュニアウエイトリフティング選手権大会 参加申込書 | R2: 様 式 ２ 号 - 2
B4: 都道府県 学連名 | D4: =IF(入力シート・女子!C4="","",入力シート・女子!C4) | E4: 事務連絡者 | F4: =IF(入力シート・女子!C6="","",入力シート・女子!C6) | G4: 連絡先住所 | H4: 〒 | I4: =IF(入力シート・女子!C8="","",入力シート・女子!C8) | O4: 電話 | Q4: =IF(入力シート・女子!C9="","",入力シート・女子!C9)
H5: =IF(入力シート・女子!C7="","",入力シート・女子!C7) | O5: FAX | Q5: =IF(入力シート・女子!C11="","",入力シート・女子!C11)
O6: メールアドレス | Q6: =IF(入力シート・女子!C12="","",入力シート・女子!C12)
A8: № | B8: 階 級 | D8: ふ り が な | E8: ふりがな | G8: 都道府県名 | H8: 生年月日 | I8: 令和６年度以降の公式競技会での最高記録 | Q8: 現 住 所
D9: 氏 名 | E9: 所 属 名 | G9: 学年 | H9: 登録番号 | I9: 大会名(上段)及び期日(下段) | J9: 階級 | K9: スナッチ | M9: ジャーク | O9: トータル
A10: 9 | B10: =IF(入力シート・女子!E28="","",入力シート・女子!E28) | C10: ㎏級 | D10: =IF(入力シート・女子!G28="","",入力シート・女子!G28) | E10: =IF(入力シート・女子!I28="","",入力シート・女子!I28) | G10: =IF(入力シート・女子!K28="","",入力シート・女子!K28) | H10: =IF(入力シート・女子!M28="","",入力シート・女子!M28) | I10: =IF(入力シート・女子!N28="","",入力シート・女子!N28) | J10: =IF(入力シート・女子!P28="","",入力シート・女子!P28) | K10: =IF(入力シート・女子!Q28="","",入力シート・女子!Q28) | L10: ㎏ | M10: =IF(入力シート・女子!R28="","",入力シート・女子!R28) | N10: ㎏ | O10: =IF(入力シート・女子!S28="","",入力シート・女子!S28) | P10: ㎏ | Q10: =IF(入力シート・女子!T28="","",入力シート・女子!T28)
D11: =IF(入力シート・女子!F28="","",入力シート・女子!F28) | E11: =IF(入力シート・女子!H28="","",入力シート・女子!H28) | G11: =IF(入力シート・女子!J28="","",入力シート・女子!J28) | H11: =IF(入力シート・女子!L28="","",入力シート・女子!L28) | I11: =IF(入力シート・女子!O28="","",入力シート・女子!O28)
A12: 10 | B12: =IF(入力シート・女子!E29="","",入力シート・女子!E29) | C12: ㎏級 | D12: =IF(入力シート・女子!G29="","",入力シート・女子!G29) | E12: =IF(入力シート・女子!I29="","",入力シート・女子!I29) | G12: =IF(入力シート・女子!K29="","",入力シート・女子!K29) | H12: =IF(入力シート・女子!M29="","",入力シート・女子!M29) | I12: =IF(入力シート・女子!N29="","",入力シート・女子!N29) | J12: =IF(入力シート・女子!P29="","",入力シート・女子!P29) | K12: =IF(入力シート・女子!Q29="","",入力シート・女子!Q29) | L12: ㎏ | M12: =IF(入力シート・女子!R29="","",入力シート・女子!R29) | N12: ㎏ | O12: =IF(入力シート・女子!S29="","",入力シート・女子!S29) | P12: ㎏ | Q12: =IF(入力シート・女子!T29="","",入力シート・女子!T29)
D13: =IF(入力シート・女子!F29="","",入力シート・女子!F29) | E13: =IF(入力シート・女子!H29="","",入力シート・女子!H29) | G13: =IF(入力シート・女子!J29="","",入力シート・女子!J29) | H13: =IF(入力シート・女子!L29="","",入力シート・女子!L29) | I13: =IF(入力シート・女子!O29="","",入力シート・女子!O29)
A14: 11 | B14: =IF(入力シート・女子!E30="","",入力シート・女子!E30) | C14: ㎏級 | D14: =IF(入力シート・女子!G30="","",入力シート・女子!G30) | E14: =IF(入力シート・女子!I30="","",入力シート・女子!I30) | G14: =IF(入力シート・女子!K30="","",入力シート・女子!K30) | H14: =IF(入力シート・女子!M30="","",入力シート・女子!M30) | I14: =IF(入力シート・女子!N30="","",入力シート・女子!N30) | J14: =IF(入力シート・女子!P30="","",入力シート・女子!P30) | K14: =IF(入力シート・女子!Q30="","",入力シート・女子!Q30) | L14: ㎏ | M14: =IF(入力シート・女子!R30="","",入力シート・女子!R30) | N14: ㎏ | O14: =IF(入力シート・女子!S30="","",入力シート・女子!S30) | P14: ㎏ | Q14: =IF(入力シート・女子!T30="","",入力シート・女子!T30)
D15: =IF(入力シート・女子!F30="","",入力シート・女子!F30) | E15: =IF(入力シート・女子!H30="","",入力シート・女子!H30) | G15: =IF(入力シート・女子!J30="","",入力シート・女子!J30) | H15: =IF(入力シート・女子!L30="","",入力シート・女子!L30) | I15: =IF(入力シート・女子!O30="","",入力シート・女子!O30)
A16: 12 | B16: =IF(入力シート・女子!E31="","",入力シート・女子!E31) | C16: ㎏級 | D16: =IF(入力シート・女子!G31="","",入力シート・女子!G31) | E16: =IF(入力シート・女子!I31="","",入力シート・女子!I31) | G16: =IF(入力シート・女子!K31="","",入力シート・女子!K31) | H16: =IF(入力シート・女子!M31="","",入力シート・女子!M31) | I16: =IF(入力シート・女子!N31="","",入力シート・女子!N31) | J16: =IF(入力シート・女子!P31="","",入力シート・女子!P31) | K16: =IF(入力シート・女子!Q31="","",入力シート・女子!Q31) | L16: ㎏ | M16: =IF(入力シート・女子!R31="","",入力シート・女子!R31) | N16: ㎏ | O16: =IF(入力シート・女子!S31="","",入力シート・女子!S31) | P16: ㎏ | Q16: =IF(入力シート・女子!T31="","",入力シート・女子!T31)
D17: =IF(入力シート・女子!F31="","",入力シート・女子!F31) | E17: =IF(入力シート・女子!H31="","",入力シート・女子!H31) | G17: =IF(入力シート・女子!J31="","",入力シート・女子!J3) | H17: =IF(入力シート・女子!L31="","",入力シート・女子!L31) | I17: =IF(入力シート・女子!O31="","",入力シート・女子!O31)
A18: 13 | B18: =IF(入力シート・女子!E32="","",入力シート・女子!E32) | C18: ㎏級 | D18: =IF(入力シート・女子!G32="","",入力シート・女子!G32) | E18: =IF(入力シート・女子!I32="","",入力シート・女子!I32) | G18: =IF(入力シート・女子!K32="","",入力シート・女子!K32) | H18: =IF(入力シート・女子!M32="","",入力シート・女子!M32) | I18: =IF(入力シート・女子!N32="","",入力シート・女子!N32) | J18: =IF(入力シート・女子!P32="","",入力シート・女子!P32) | K18: =IF(入力シート・女子!Q32="","",入力シート・女子!Q32) | L18: ㎏ | M18: =IF(入力シート・女子!R32="","",入力シート・女子!R32) | N18: ㎏ | O18: =IF(入力シート・女子!S32="","",入力シート・女子!S32) | P18: ㎏ | Q18: =IF(入力シート・女子!T32="","",入力シート・女子!T32)
D19: =IF(入力シート・女子!F32="","",入力シート・女子!F32) | E19: =IF(入力シート・女子!H32="","",入力シート・女子!H32) | G19: =IF(入力シート・女子!J32="","",入力シート・女子!J32) | H19: =IF(入力シート・女子!L32="","",入力シート・女子!L32) | I19: =IF(入力シート・女子!O32="","",入力シート・女子!O32)
A20: 14 | B20: =IF(入力シート・女子!E33="","",入力シート・女子!E33) | C20: ㎏級 | D20: =IF(入力シート・女子!G33="","",入力シート・女子!G33) | E20: =IF(入力シート・女子!I33="","",入力シート・女子!I33) | G20: =IF(入力シート・女子!K33="","",入力シート・女子!K33) | H20: =IF(入力シート・女子!M33="","",入力シート・女子!M33) | I20: =IF(入力シート・女子!N33="","",入力シート・女子!N33) | J20: =IF(入力シート・女子!P33="","",入力シート・女子!P33) | K20: =IF(入力シート・女子!Q33="","",入力シート・女子!Q33) | L20: ㎏ | M20: =IF(入力シート・女子!R33="","",入力シート・女子!R33) | N20: ㎏ | O20: =IF(入力シート・女子!S33="","",入力シート・女子!S33) | P20: ㎏ | Q20: =IF(入力シート・女子!T33="","",入力シート・女子!T33)
D21: =IF(入力シート・女子!F33="","",入力シート・女子!F33) | E21: =IF(入力シート・女子!H33="","",入力シート・女子!H33) | G21: =IF(入力シート・女子!J33="","",入力シート・女子!J33) | H21: =IF(入力シート・女子!L33="","",入力シート・女子!L33) | I21: =IF(入力シート・女子!O33="","",入力シート・女子!O33)
A22: 15 | B22: =IF(入力シート・女子!E34="","",入力シート・女子!E34) | C22: ㎏級 | D22: =IF(入力シート・女子!G34="","",入力シート・女子!G34) | E22: =IF(入力シート・女子!I34="","",入力シート・女子!I34) | G22: =IF(入力シート・女子!K34="","",入力シート・女子!K34) | H22: =IF(入力シート・女子!M34="","",入力シート・女子!M34) | I22: =IF(入力シート・女子!N34="","",入力シート・女子!N34) | J22: =IF(入力シート・女子!P34="","",入力シート・女子!P34) | K22: =IF(入力シート・女子!Q34="","",入力シート・女子!Q34) | L22: ㎏ | M22: =IF(入力シート・女子!R34="","",入力シート・女子!R34) | N22: ㎏ | O22: =IF(入力シート・女子!S34="","",入力シート・女子!S34) | P22: ㎏ | Q22: =IF(入力シート・女子!T34="","",入力シート・女子!T34)
D23: =IF(入力シート・女子!F34="","",入力シート・女子!F34) | E23: =IF(入力シート・女子!H34="","",入力シート・女子!H34) | G23: =IF(入力シート・女子!J34="","",入力シート・女子!J34) | H23: =IF(入力シート・女子!L34="","",入力シート・女子!L34) | I23: =IF(入力シート・女子!O34="","",入力シート・女子!O34)
A24: 16 | B24: =IF(入力シート・女子!E35="","",入力シート・女子!E35) | C24: ㎏級 | D24: =IF(入力シート・女子!G35="","",入力シート・女子!G35) | E24: =IF(入力シート・女子!I35="","",入力シート・女子!I35) | G24: =IF(入力シート・女子!K35="","",入力シート・女子!K35) | H24: =IF(入力シート・女子!M35="","",入力シート・女子!M35) | I24: =IF(入力シート・女子!N35="","",入力シート・女子!N35) | J24: =IF(入力シート・女子!P35="","",入力シート・女子!P35) | K24: =IF(入力シート・女子!Q35="","",入力シート・女子!Q35) | L24: ㎏ | M24: =IF(入力シート・女子!R35="","",入力シート・女子!R35) | N24: ㎏ | O24: =IF(入力シート・女子!S35="","",入力シート・女子!S35) | P24: ㎏ | Q24: =IF(入力シート・女子!T35="","",入力シート・女子!T35)
D25: =IF(入力シート・女子!F35="","",入力シート・女子!F35) | E25: =IF(入力シート・女子!H35="","",入力シート・女子!H35) | G25: =IF(入力シート・女子!J35="","",入力シート・女子!J35) | H25: =IF(入力シート・女子!L35="","",入力シート・女子!L35) | I25: =IF(入力シート・女子!O35="","",入力シート・女子!O35)
B27: 上記の者は、標記大会実施要項の規定に適確で健康上にも支障がないので申し込みます。 | N27: 記 載 責 任 者 | R27: =IF(入力シート・女子!C15="","",入力シート・女子!C15) | S27: =IF(#REF!="","",#REF!) -> #REF!
N28: 申 込 み 人 数 | R28: =IF(入力シート・女子!C13="","",入力シート・女子!C13) | S28: 名
D29: 申込日： | E29: =IF(入力シート・女子!C14="","",入力シート・女子!C14)
N30: =IF(入力シート・女子!C4="","",入力シート・女子!C4) | Q30: ウエイトリフティング | S30: =IF(N30="全日本学生","連盟","協会") -> 協会
C31: 公益社団法人日本ウエイトリフティング協会会長 砂岡 良治 様 | N31: 会 長 | P31: =IF(入力シート・女子!C5="","",入力シート・女子!C5) | S31: 印
N32: 注意：Eメールで送信する際は押印不要です。

Sheet Sheet1(入力不要）
B1: 都道府県名 | C1: 会長名 | D1: 事務連絡者 | E1: 〒 | F1: 住所 | G1: 電話 | H1: 携帯電話 | I1: ファクス | J1: メールアドレス | K1: 参加人数 | L1: 参加料 | M1: 申込期日 | N1: 記載責任者
B2: =入力シート・女子!C4 -> 0 | C2: =入力シート・女子!C5 -> 0 | D2: =入力シート・女子!C6 -> 0 | E2: =入力シート・女子!C7 -> 0 | F2: =入力シート・女子!C8 -> 0 | G2: =入力シート・女子!C9 -> 0 | H2: =入力シート・女子!C10 -> 0 | I2: =入力シート・女子!C11 -> 0 | J2: =入力シート・女子!C12 -> 0 | K2: =入力シート・女子!C13 -> 0 | L2: =入力シート・女子!#REF! -> #REF! | M2: =入力シート・女子!C14 -> 0 | N2: =入力シート・女子!C15 -> 0
