Workbook

Sheet 入力用紙
C1: 令和7年度 第2回次世代アスリート育成合宿（中学生）優秀選手・指導者推薦書
M2: 令和 7 年 月 日
A3: （公社）日本ウエイトリフティング協会
A4: 専務理事・強化本部長 小栗 和成 様
L5: 指導者名 | M5: 印
L7: 都道府県協会長 | M7: 印
A8: 下記の選手を優秀選手として推薦いたします。
H9: 記
L10: ※空欄がないように入力して下さい。 数字は半角で入力してださい。
A11: 氏名 | C11: フリガナ | E11: 性別（男/女） | F11: 生年月日（西暦) | I11: 年齢 | K11: 学年 | L11: 所属 | M11: 校長名
L12: 立 中学校
J13: 歳
A14: 学校所在地 〒 | C14: 住 所 | K14: Tel | M14: 登録している都道府県
A16: 自宅住所 〒 | C16: 住 所 | K16: Tel | M16: 最寄駅
M17: 線 駅
A18: スナッチベスト（㎏） | C18: C&Jベスト(kg) | E18: トータル（試合・練習可） | G18: スクワット | I18: 階級 | K18: ウエイトリフティングを開始した年月（西暦) | M18: 普段の体重
B19: kg | D19: ㎏ | F19: ㎏ | H19: ㎏ | J19: ㎏級
G20: ※記録未達成者推薦の記入欄
A21: 次の指導者を推薦いたします。
A22: 氏 名 | C22: 生年月日（西暦） | E22: 所属 | I22: 所属長の職名 | L22: 所属長の氏名
A24: 所属所在地 〒 | C24: 住 所 | L24: Tel
A26: 自宅現住所 〒 | C26: 住 所 | L26: Tel | M26: 最寄駅
M27: 線 駅
A29: 文書 送付先〒 | C29: 住所 | L29: 氏名
M30: ※締め切り R７.９.２９ （月）

Sheet 選手データ
B1: 氏名 | C1: フリガナ | D1: 性別（男/女） | E1: 生年月日（西暦) | F1: 年齢 | G1: 学年 | H1: 所属 | I1: 校長名 | J1: 学校所在地 〒 | K1: 住所 | L1: TEL | M1: 登録している都道府県 | N1: 自宅住所 〒 | O1: 住所 | P1: TEL | Q1: 最寄駅 | R1: スナッチ | S1: Ｃ＆ジャーク | T1: トータル | U1: スクワット | V1: 階級 | W1: 競技開始年月 | X1: 普段の体重 | Y1: 文書 送付先〒 | Z1: 住所 | AA1: 氏名
A2: 入力用紙 | B2: =入力用紙!A12 -> 0 | C2: =入力用紙!C12 -> 0 | D2: =入力用紙!E12 -> 0 | E2: =入力用紙!F12 -> 0 | F2: =入力用紙!I12 -> 0 | G2: =入力用紙!K12 -> 0 | H2: =入力用紙!L12 -> 立 中学校 | I2: =入力用紙!M12 -> 0 | J2: =入力用紙!A15 -> 0 | K2: =入力用紙!C15 -> 0 | L2: =入力用紙!K15 -> 0 | M2: =入力用紙!M15 -> 0 | N2: =入力用紙!A17 -> 0 | O2: =入力用紙!C17 -> 0 | P2: =入力用紙!K17 -> 0 | Q2: =入力用紙!M17 -> 線 駅 | R2: =入力用紙!A19 -> 0 | S2: =入力用紙!C19 -> 0 | T2: =入力用紙!E19 -> 0 | U2: =入力用紙!G19 -> 0 | V2: =入力用紙!I19 -> 0 | W2: =入力用紙!K19 -> 0 | X2: =入力用紙!M19 -> 0 | Y2: =入力用紙!A30 -> 0 | Z2: =入力用紙!C30 -> 0 | AA2: =入力用紙!L30 -> 0

Sheet 指導者データ
B1: 氏名 | C1: 生年月日（西暦） | D1: 所属 | E1: 所属長名 職名 | F1: 所属長名 氏名 | G1: 所属所在地 〒 | H1: 住所 | I1: Tel | J1: 自宅住所 〒 | K1: 住所 | L1: Tel | M1: 最寄駅
A2: 入力用紙 | B2: =入力用紙!A23 -> 0 | C2: =入力用紙!C23 -> 0 | D2: =入力用紙!E23 -> 0 | E2: =入力用紙!H23 -> 0 | F2: =入力用紙!L23 -> 0 | G2: =入力用紙!A25 -> 0 | H2: =入力用紙!C25 -> 0 | I2: =入力用紙!L25 -> 0 | J2: =入力用紙!A27 -> 0 | K2: =入力用紙!C27 -> 0 | L2: =入力用紙!L27 -> 0 | M2: =入力用紙!M27 -> 線 駅
A3: 指導者用紙
